BEGIN:VCALENDAR
VERSION:2.0
PRODID:-//ChamberMaster//Event Calendar 2.0//EN
METHOD:PUBLISH
X-PUBLISHED-TTL:P3D
REFRESH-INTERVAL:P3D
CALSCALE:GREGORIAN
BEGIN:VEVENT
DTSTART;VALUE=DATE:20261016
DTEND;VALUE=DATE:20261017
TRANSP:TRANSPARENT
X-MICROSOFT-CDO-ALLDAYEVENT:TRUE
SUMMARY:Community Map Advertising 2027
DESCRIPTION:Advertise your business in our biannual community map. This map has a shelf life of two years\, and it is distributed to local banks\, hotels\, real estate offices\, and more! Map advertising deadline is November 7\, 2024\, so reserve ad space today! Please note that Investor\, Keystone\, and Cornerstone members can also utilize their credits for advertising.\n\n \n\nAvailable Ad Sizes:\n\n1/4 Panel - $400\n\n1/2 Panel - $600\n\nFull Panel - $1\,000\n\nBack Cover - $1\,400*\n\n*Previous year's advertisers have first right of refusal for these ad spaces.
X-ALT-DESC;FMTTYPE=text/html:<p>&nbsp\;</p>\n\n<p style="box-sizing: border-box\; margin-top: 0px\; margin-bottom: 1rem\; color: rgb(68\, 68\, 68)\; font-family: Arial\, Helvetica\, sans-serif\; font-size: 16px\;"><span style="box-sizing: border-box\;"><font face="arial" style="box-sizing: border-box\;">Advertise your business in our biannual community map. This map has a shelf life of two years\, and it is distributed to local banks\, hotels\, real estate offices\, and more!&nbsp\;Map advertising deadline is November 7\, 2024\, so reserve ad space today!&nbsp\;Please note that</font><span style="box-sizing: border-box\; font-family: arial\, sans-serif\;">&nbsp\;Investor\, Keystone\, and Cornerstone members can also utilize their credits for advertising.</span></span><br style="box-sizing: border-box\;" />\n&nbsp\;</p>\n\n<p style="box-sizing: border-box\; margin-top: 0px\; margin-bottom: 1rem\; color: rgb(68\, 68\, 68)\; font-family: Arial\, Helvetica\, sans-serif\; font-size: 16px\;"><span style="box-sizing: border-box\; font-weight: bolder\;"><font face="arial" style="box-sizing: border-box\;">Available Ad Sizes:</font></span><br style="box-sizing: border-box\;" />\n<span style="box-sizing: border-box\; font-family: arial\;"><span style="box-sizing: border-box\; background-image: initial\; background-position: initial\; background-size: initial\; background-repeat: initial\; background-attachment: initial\; background-origin: initial\; background-clip: initial\;">1/4 Panel - $400</span><br style="box-sizing: border-box\;" />\n1/2 Panel - $600<br />\nFull Panel - $1\,000<br />\nBack Cover - $1\,400*</span><br style="box-sizing: border-box\;" />\n<font face="arial" style="box-sizing: border-box\;">*Previous year&#39\;s advertisers have first right of refusal for these ad spaces.</font></p>\n
LOCATION:Deadline for advertising is October 16\, 2026
UID:e.3182.669
SEQUENCE:3
DTSTAMP:20260426T014313Z
URL:https://lindalechamber.org/events/details/community-map-advertising-2027-669
END:VEVENT

END:VCALENDAR
